Package: gtrellis Version: 1.42.0 Command: /Library/Frameworks/R.framework/Resources/bin/R CMD build --keep-empty-dirs --no-resave-data gtrellis StartedAt: 2025-11-03 17:17:32 -0500 (Mon, 03 Nov 2025) EndedAt: 2025-11-03 17:20:22 -0500 (Mon, 03 Nov 2025) EllapsedTime: 170.5 seconds RetCode: 0 Status: OK PackageFile: gtrellis_1.42.0.tar.gz PackageFileSize: 4.041 MiB