Package: gtrellis Version: 1.40.0 Command: /home/biocbuild/R/R/bin/R CMD INSTALL gtrellis StartedAt: 2025-10-13 20:27:32 -0000 (Mon, 13 Oct 2025) EndedAt: 2025-10-13 20:27:46 -0000 (Mon, 13 Oct 2025) EllapsedTime: 14.9 seconds RetCode: 0 Status: OK