Package: gtrellis Version: 1.42.0 Command: /Library/Frameworks/R.framework/Resources/bin/R CMD INSTALL gtrellis StartedAt: 2025-11-20 16:49:54 -0500 (Thu, 20 Nov 2025) EndedAt: 2025-11-20 16:50:05 -0500 (Thu, 20 Nov 2025) EllapsedTime: 10.6 seconds RetCode: 0 Status: OK