Package: gtrellis Version: 1.42.0 Command: /Library/Frameworks/R.framework/Resources/bin/R CMD build --keep-empty-dirs --no-resave-data gtrellis StartedAt: 2025-11-21 02:39:22 -0500 (Fri, 21 Nov 2025) EndedAt: 2025-11-21 02:41:45 -0500 (Fri, 21 Nov 2025) EllapsedTime: 143.2 seconds RetCode: 0 Status: OK PackageFile: gtrellis_1.42.0.tar.gz PackageFileSize: 4.01 MiB