Package: gsean Version: 1.30.0 Command: /home/biocbuild/R/R/bin/R CMD INSTALL gsean StartedAt: 2025-11-13 21:40:40 -0000 (Thu, 13 Nov 2025) EndedAt: 2025-11-13 21:41:12 -0000 (Thu, 13 Nov 2025) EllapsedTime: 32.0 seconds RetCode: 0 Status: OK