Package: gsean Version: 1.30.0 Command: /home/biocbuild/R/R/bin/R CMD build --keep-empty-dirs --no-resave-data gsean StartedAt: 2025-11-14 02:22:46 -0000 (Fri, 14 Nov 2025) EndedAt: 2025-11-14 02:24:05 -0000 (Fri, 14 Nov 2025) EllapsedTime: 79.1 seconds RetCode: 0 Status: OK PackageFile: gsean_1.30.0.tar.gz PackageFileSize: 2.118 MiB