Package: gsean Version: 1.29.0 Command: rm -rf gsean.buildbin-libdir && mkdir gsean.buildbin-libdir && F:\biocbuild\bbs-3.22-bioc\R\bin\R.exe CMD INSTALL --build --library=gsean.buildbin-libdir gsean_1.29.0.tar.gz StartedAt: 2025-08-15 10:26:09 -0400 (Fri, 15 Aug 2025) EndedAt: 2025-08-15 10:26:42 -0400 (Fri, 15 Aug 2025) EllapsedTime: 33.7 seconds RetCode: 0 Status: OK PackageFile: gsean_1.29.0.zip PackageFileSize: 1.563 MiB