Package: gsean Version: 1.30.0 Command: /home/biocbuild/bbs-3.22-bioc/R/bin/R CMD INSTALL gsean StartedAt: 2025-11-11 15:36:24 -0500 (Tue, 11 Nov 2025) EndedAt: 2025-11-11 15:36:47 -0500 (Tue, 11 Nov 2025) EllapsedTime: 23.6 seconds RetCode: 0 Status: OK