Package: gsean Version: 1.30.0 Command: /home/biocbuild/bbs-3.22-bioc/R/bin/R CMD build --keep-empty-dirs --no-resave-data --md5 gsean StartedAt: 2025-11-11 18:06:27 -0500 (Tue, 11 Nov 2025) EndedAt: 2025-11-11 18:07:32 -0500 (Tue, 11 Nov 2025) EllapsedTime: 65.1 seconds RetCode: 0 Status: OK PackageFile: gsean_1.30.0.tar.gz PackageFileSize: 1.535 MiB