Package: gsean Version: 1.28.0 Command: /home/biocbuild/bbs-3.21-bioc/R/bin/R CMD build --keep-empty-dirs --no-resave-data gsean StartedAt: 2025-09-28 18:06:35 -0400 (Sun, 28 Sep 2025) EndedAt: 2025-09-28 18:07:39 -0400 (Sun, 28 Sep 2025) EllapsedTime: 64.1 seconds RetCode: 0 Status: OK PackageFile: gsean_1.28.0.tar.gz PackageFileSize: 1.535 MiB