Package: gsean Version: 1.28.0 Command: rm -rf gsean.buildbin-libdir && mkdir gsean.buildbin-libdir && /Users/biocbuild/BBS/utils/build-universal.sh gsean_1.28.0.tar.gz /Library/Frameworks/R.framework/Resources/bin/R gsean.buildbin-libdir StartedAt: 2025-10-14 13:40:03 -0400 (Tue, 14 Oct 2025) EndedAt: 2025-10-14 13:41:30 -0400 (Tue, 14 Oct 2025) EllapsedTime: 87.1 seconds RetCode: 0 Status: OK PackageFile: gsean_1.28.0.tgz PackageFileSize: 1.559 MiB