Package: gsean Version: 1.28.0 Command: /Library/Frameworks/R.framework/Resources/bin/R CMD INSTALL gsean StartedAt: 2025-10-02 15:56:19 -0400 (Thu, 02 Oct 2025) EndedAt: 2025-10-02 15:56:48 -0400 (Thu, 02 Oct 2025) EllapsedTime: 28.5 seconds RetCode: 0 Status: OK