Package: gsean Version: 1.28.0 Command: rm -rf gsean.buildbin-libdir && mkdir gsean.buildbin-libdir && /Users/biocbuild/BBS/utils/build-universal.sh gsean_1.28.0.tar.gz /Library/Frameworks/R.framework/Resources/bin/R gsean.buildbin-libdir StartedAt: 2025-10-04 18:17:13 -0400 (Sat, 04 Oct 2025) EndedAt: 2025-10-04 18:17:47 -0400 (Sat, 04 Oct 2025) EllapsedTime: 34.0 seconds RetCode: 0 Status: OK PackageFile: gsean_1.28.0.tgz PackageFileSize: 1.559 MiB