Package: gscreend Version: 1.24.0 Command: /home/biocbuild/R/R/bin/R CMD build --keep-empty-dirs --no-resave-data gscreend StartedAt: 2025-11-21 03:01:25 -0000 (Fri, 21 Nov 2025) EndedAt: 2025-11-21 03:04:36 -0000 (Fri, 21 Nov 2025) EllapsedTime: 191.4 seconds RetCode: 0 Status: OK PackageFile: gscreend_1.24.0.tar.gz PackageFileSize: 3.131 MiB