Package: gscreend Version: 1.24.0 Command: /home/biocbuild/bbs-3.22-bioc/R/bin/R CMD INSTALL gscreend StartedAt: 2025-11-13 15:18:41 -0500 (Thu, 13 Nov 2025) EndedAt: 2025-11-13 15:19:02 -0500 (Thu, 13 Nov 2025) EllapsedTime: 21.2 seconds RetCode: 0 Status: OK