Package: gscreend Version: 1.22.0 Command: /home/biocbuild/bbs-3.21-bioc/R/bin/R CMD build --keep-empty-dirs --no-resave-data gscreend StartedAt: 2025-10-15 17:52:27 -0400 (Wed, 15 Oct 2025) EndedAt: 2025-10-15 17:54:02 -0400 (Wed, 15 Oct 2025) EllapsedTime: 95.1 seconds RetCode: 0 Status: OK PackageFile: gscreend_1.22.0.tar.gz PackageFileSize: 3.183 MiB