Package: gscreend Version: 1.22.0 Command: /Library/Frameworks/R.framework/Resources/bin/R CMD build --keep-empty-dirs --no-resave-data gscreend StartedAt: 2025-10-14 01:47:18 -0400 (Tue, 14 Oct 2025) EndedAt: 2025-10-14 01:49:35 -0400 (Tue, 14 Oct 2025) EllapsedTime: 136.9 seconds RetCode: 0 Status: OK PackageFile: gscreend_1.22.0.tar.gz PackageFileSize: 3.114 MiB