Package: groHMM Version: 1.44.0 Command: /home/biocbuild/bbs-3.22-bioc/R/bin/R CMD INSTALL groHMM StartedAt: 2025-11-11 15:31:08 -0500 (Tue, 11 Nov 2025) EndedAt: 2025-11-11 15:31:40 -0500 (Tue, 11 Nov 2025) EllapsedTime: 32.1 seconds RetCode: 0 Status: OK