Package: groHMM Version: 1.44.0 Command: /home/biocbuild/bbs-3.22-bioc/R/bin/R CMD check --install=check:groHMM.install-out.txt --library=/home/biocbuild/bbs-3.22-bioc/R/site-library --timings groHMM_1.44.0.tar.gz StartedAt: 2025-11-18 04:49:07 -0500 (Tue, 18 Nov 2025) EndedAt: 2025-11-18 04:55:33 -0500 (Tue, 18 Nov 2025) EllapsedTime: 386.5 seconds RetCode: 0 Status: WARNINGS CheckDir: groHMM.Rcheck Warnings: 2