Package: groHMM Version: 1.44.0 Command: /Library/Frameworks/R.framework/Resources/bin/R CMD INSTALL groHMM StartedAt: 2025-11-03 15:34:20 -0500 (Mon, 03 Nov 2025) EndedAt: 2025-11-03 15:35:05 -0500 (Mon, 03 Nov 2025) EllapsedTime: 45.4 seconds RetCode: 0 Status: OK