Package: groHMM Version: 1.42.0 Command: /home/biocbuild/R/R/bin/R CMD INSTALL groHMM StartedAt: 2025-10-13 20:41:14 -0000 (Mon, 13 Oct 2025) EndedAt: 2025-10-13 20:42:01 -0000 (Mon, 13 Oct 2025) EllapsedTime: 47.2 seconds RetCode: 0 Status: OK