Package: graphite Version: 1.56.0 Command: /home/biocbuild/R/R/bin/R CMD INSTALL graphite StartedAt: 2025-11-13 21:33:42 -0000 (Thu, 13 Nov 2025) EndedAt: 2025-11-13 21:34:00 -0000 (Thu, 13 Nov 2025) EllapsedTime: 17.4 seconds RetCode: 0 Status: OK