Package: graphite Version: 1.56.0 Command: /home/biocbuild/bbs-3.22-bioc/R/bin/R CMD check --install=check:graphite.install-out.txt --library=/home/biocbuild/bbs-3.22-bioc/R/site-library --timings graphite_1.56.0.tar.gz StartedAt: 2025-11-12 00:17:18 -0500 (Wed, 12 Nov 2025) EndedAt: 2025-11-12 00:21:56 -0500 (Wed, 12 Nov 2025) EllapsedTime: 278.2 seconds RetCode: 0 Status: OK CheckDir: graphite.Rcheck Warnings: 0