Package: graphite Version: 1.54.0 Command: /home/biocbuild/bbs-3.21-bioc/R/bin/R CMD INSTALL graphite StartedAt: 2025-10-12 15:25:19 -0400 (Sun, 12 Oct 2025) EndedAt: 2025-10-12 15:25:32 -0400 (Sun, 12 Oct 2025) EllapsedTime: 12.9 seconds RetCode: 0 Status: OK