Package: graphite Version: 1.54.0 Command: rm -rf graphite.buildbin-libdir && mkdir graphite.buildbin-libdir && /Users/biocbuild/BBS/utils/build-universal.sh graphite_1.54.0.tar.gz /Library/Frameworks/R.framework/Resources/bin/R graphite.buildbin-libdir StartedAt: 2025-04-22 00:48:46 -0400 (Tue, 22 Apr 2025) EndedAt: 2025-04-22 00:49:08 -0400 (Tue, 22 Apr 2025) EllapsedTime: 22.2 seconds RetCode: 0 Status: OK PackageFile: graphite_1.54.0.tgz PackageFileSize: 903.6 KiB