Package: graphite Version: 1.54.0 Command: /home/biocbuild/R/R/bin/R CMD INSTALL graphite StartedAt: 2025-09-25 20:40:16 -0000 (Thu, 25 Sep 2025) EndedAt: 2025-09-25 20:40:36 -0000 (Thu, 25 Sep 2025) EllapsedTime: 20.0 seconds RetCode: 0 Status: OK