Package: graphite Version: 1.54.0 Command: /Library/Frameworks/R.framework/Resources/bin/R CMD INSTALL graphite StartedAt: 2025-10-09 15:47:16 -0400 (Thu, 09 Oct 2025) EndedAt: 2025-10-09 15:47:34 -0400 (Thu, 09 Oct 2025) EllapsedTime: 18.0 seconds RetCode: 0 Status: OK