Package: graph Version: 1.88.0 Command: /home/biocbuild/bbs-3.22-bioc/R/bin/R CMD INSTALL graph StartedAt: 2025-11-13 15:12:07 -0500 (Thu, 13 Nov 2025) EndedAt: 2025-11-13 15:12:19 -0500 (Thu, 13 Nov 2025) EllapsedTime: 12.1 seconds RetCode: 0 Status: OK