Package: graph Version: 1.88.0 Command: /home/biocbuild/bbs-3.22-bioc/R/bin/R CMD build --keep-empty-dirs --no-resave-data --md5 graph StartedAt: 2025-11-11 18:04:12 -0500 (Tue, 11 Nov 2025) EndedAt: 2025-11-11 18:04:41 -0500 (Tue, 11 Nov 2025) EllapsedTime: 29.0 seconds RetCode: 0 Status: OK PackageFile: graph_1.88.0.tar.gz PackageFileSize: 1.435 MiB