Package: graph Version: 1.86.0 Command: /Library/Frameworks/R.framework/Resources/bin/R CMD INSTALL graph StartedAt: 2025-10-09 15:18:37 -0400 (Thu, 09 Oct 2025) EndedAt: 2025-10-09 15:19:06 -0400 (Thu, 09 Oct 2025) EllapsedTime: 28.9 seconds RetCode: 0 Status: OK