Package: graph Version: 1.86.0 Command: rm -rf graph.buildbin-libdir && mkdir graph.buildbin-libdir && /Users/biocbuild/BBS/utils/build-universal.sh graph_1.86.0.tar.gz /Library/Frameworks/R.framework/Resources/bin/R graph.buildbin-libdir StartedAt: 2025-10-10 13:39:25 -0400 (Fri, 10 Oct 2025) EndedAt: 2025-10-10 13:40:18 -0400 (Fri, 10 Oct 2025) EllapsedTime: 52.8 seconds RetCode: 0 Status: OK PackageFile: graph_1.86.0.tgz PackageFileSize: 2.103 MiB