Package: graph Version: 1.86.0 Command: /home/biocbuild/R/R/bin/R CMD build --keep-empty-dirs --no-resave-data graph StartedAt: 2025-09-26 02:15:08 -0000 (Fri, 26 Sep 2025) EndedAt: 2025-09-26 02:15:53 -0000 (Fri, 26 Sep 2025) EllapsedTime: 45.0 seconds RetCode: 0 Status: OK PackageFile: graph_1.86.0.tar.gz PackageFileSize: 1.548 MiB