Package: graph Version: 1.86.0 Maintainer: Bioconductor Package Maintainer MaintainerEmail: maintainer at bioconductor.org git_url: https://git.bioconductor.org/packages/graph git_branch: RELEASE_3_21 git_last_commit: 5e339a3 git_last_commit_date: 2025-04-15 09:16:13 -0400 (Tue, 15 Apr 2025)