Package: graper Version: 1.26.0 Command: /home/biocbuild/bbs-3.22-bioc/R/bin/R CMD build --keep-empty-dirs --no-resave-data --md5 graper StartedAt: 2025-11-11 18:03:46 -0500 (Tue, 11 Nov 2025) EndedAt: 2025-11-11 18:04:48 -0500 (Tue, 11 Nov 2025) EllapsedTime: 62.0 seconds RetCode: 0 Status: OK PackageFile: graper_1.26.0.tar.gz PackageFileSize: 987.7 KiB