Package: graper Version: 1.24.2 Command: /home/biocbuild/bbs-3.21-bioc/R/bin/R CMD build --keep-empty-dirs --no-resave-data graper StartedAt: 2025-10-15 17:50:01 -0400 (Wed, 15 Oct 2025) EndedAt: 2025-10-15 17:51:05 -0400 (Wed, 15 Oct 2025) EllapsedTime: 64.0 seconds RetCode: 0 Status: OK PackageFile: graper_1.24.2.tar.gz PackageFileSize: 986.1 KiB