Package: graper Version: 1.24.2 Command: /home/biocbuild/R/R/bin/R CMD INSTALL graper StartedAt: 2025-09-29 20:20:11 -0000 (Mon, 29 Sep 2025) EndedAt: 2025-09-29 20:21:08 -0000 (Mon, 29 Sep 2025) EllapsedTime: 56.4 seconds RetCode: 0 Status: OK