Package: graper Version: 1.24.2 Command: /home/biocbuild/R/R/bin/R CMD build --keep-empty-dirs --no-resave-data graper StartedAt: 2025-09-30 02:05:08 -0000 (Tue, 30 Sep 2025) EndedAt: 2025-09-30 02:06:41 -0000 (Tue, 30 Sep 2025) EllapsedTime: 93.0 seconds RetCode: 0 Status: OK PackageFile: graper_1.24.2.tar.gz PackageFileSize: 944.4 KiB