Package: graper Version: 1.24.2 Command: /Library/Frameworks/R.framework/Resources/bin/R CMD INSTALL graper StartedAt: 2025-10-13 15:22:17 -0400 (Mon, 13 Oct 2025) EndedAt: 2025-10-13 15:22:49 -0400 (Mon, 13 Oct 2025) EllapsedTime: 31.7 seconds RetCode: 0 Status: OK