Package: graper Version: 1.24.2 Command: /Library/Frameworks/R.framework/Resources/bin/R CMD build --keep-empty-dirs --no-resave-data graper StartedAt: 2025-10-14 01:40:39 -0400 (Tue, 14 Oct 2025) EndedAt: 2025-10-14 01:41:57 -0400 (Tue, 14 Oct 2025) EllapsedTime: 77.5 seconds RetCode: 0 Status: OK PackageFile: graper_1.24.2.tar.gz PackageFileSize: 929.7 KiB