Package: graper Version: 1.24.2 Command: rm -rf graper.buildbin-libdir && mkdir graper.buildbin-libdir && /Users/biocbuild/BBS/utils/build-universal.sh graper_1.24.2.tar.gz /Library/Frameworks/R.framework/Resources/bin/R graper.buildbin-libdir StartedAt: 2025-10-15 18:46:37 -0400 (Wed, 15 Oct 2025) EndedAt: 2025-10-15 18:47:13 -0400 (Wed, 15 Oct 2025) EllapsedTime: 36.2 seconds RetCode: 0 Status: OK PackageFile: graper_1.24.2.tgz PackageFileSize: 1.113 MiB