Package: granulator Version: 1.18.0 Command: /home/biocbuild/bbs-3.22-bioc/R/bin/R CMD INSTALL granulator StartedAt: 2025-11-11 15:14:37 -0500 (Tue, 11 Nov 2025) EndedAt: 2025-11-11 15:14:55 -0500 (Tue, 11 Nov 2025) EllapsedTime: 18.2 seconds RetCode: 0 Status: OK