Package: granulator Version: 1.16.0 Command: /home/biocbuild/R/R/bin/R CMD build --keep-empty-dirs --no-resave-data granulator StartedAt: 2025-10-14 01:25:35 -0000 (Tue, 14 Oct 2025) EndedAt: 2025-10-14 01:29:09 -0000 (Tue, 14 Oct 2025) EllapsedTime: 214.0 seconds RetCode: 0 Status: OK PackageFile: granulator_1.16.0.tar.gz PackageFileSize: 1.27 MiB