Package: granulator Version: 1.16.0 Command: /Library/Frameworks/R.framework/Resources/bin/R CMD build --keep-empty-dirs --no-resave-data granulator StartedAt: 2025-04-21 16:32:48 -0400 (Mon, 21 Apr 2025) EndedAt: 2025-04-21 16:33:49 -0400 (Mon, 21 Apr 2025) EllapsedTime: 60.7 seconds RetCode: 0 Status: OK PackageFile: granulator_1.16.0.tar.gz PackageFileSize: 1.329 MiB