Package: granulator Version: 1.16.0 Command: rm -rf granulator.buildbin-libdir && mkdir granulator.buildbin-libdir && /Users/biocbuild/BBS/utils/build-universal.sh granulator_1.16.0.tar.gz /Library/Frameworks/R.framework/Resources/bin/R granulator.buildbin-libdir StartedAt: 2025-04-21 22:37:29 -0400 (Mon, 21 Apr 2025) EndedAt: 2025-04-21 22:37:34 -0400 (Mon, 21 Apr 2025) EllapsedTime: 5.1 seconds RetCode: 0 Status: OK PackageFile: granulator_1.16.0.tgz PackageFileSize: 1.373 MiB