Package: gpuMagic Version: 1.26.0 Command: /home/biocbuild/R/R/bin/R CMD INSTALL gpuMagic StartedAt: 2025-11-13 21:17:48 -0000 (Thu, 13 Nov 2025) EndedAt: 2025-11-13 21:17:53 -0000 (Thu, 13 Nov 2025) EllapsedTime: 5.1 seconds RetCode: 1 Status: ERROR