Package: gpuMagic Version: 1.26.0 Command: /home/biocbuild/bbs-3.22-bioc/R/bin/R CMD INSTALL gpuMagic StartedAt: 2025-11-11 15:16:09 -0500 (Tue, 11 Nov 2025) EndedAt: 2025-11-11 15:16:12 -0500 (Tue, 11 Nov 2025) EllapsedTime: 2.6 seconds RetCode: 1 Status: ERROR