Package: gpuMagic Version: 1.24.0 Command: /home/biocbuild/bbs-3.21-bioc/R/bin/R CMD INSTALL gpuMagic StartedAt: 2025-09-28 15:28:23 -0400 (Sun, 28 Sep 2025) EndedAt: 2025-09-28 15:28:25 -0400 (Sun, 28 Sep 2025) EllapsedTime: 2.1 seconds RetCode: 1 Status: ERROR