Package: gpuMagic Version: 1.24.0 Command: /Library/Frameworks/R.framework/Resources/bin/R CMD build --keep-empty-dirs --no-resave-data gpuMagic StartedAt: 2025-10-09 19:28:52 -0400 (Thu, 09 Oct 2025) EndedAt: 2025-10-09 19:30:27 -0400 (Thu, 09 Oct 2025) EllapsedTime: 95.6 seconds RetCode: 0 Status: OK PackageFile: gpuMagic_1.24.0.tar.gz PackageFileSize: 737 KiB