Package: gpls Version: 1.82.0 Command: /home/biocbuild/R/R/bin/R CMD INSTALL gpls StartedAt: 2025-11-13 21:02:52 -0000 (Thu, 13 Nov 2025) EndedAt: 2025-11-13 21:03:00 -0000 (Thu, 13 Nov 2025) EllapsedTime: 7.8 seconds RetCode: 0 Status: OK