Package: gpls Version: 1.82.0 Command: /home/biocbuild/R/R/bin/R CMD build --keep-empty-dirs --no-resave-data gpls StartedAt: 2025-11-14 02:18:44 -0000 (Fri, 14 Nov 2025) EndedAt: 2025-11-14 02:18:54 -0000 (Fri, 14 Nov 2025) EllapsedTime: 10.0 seconds RetCode: 0 Status: OK PackageFile: gpls_1.82.0.tar.gz PackageFileSize: 226.2 KiB